BEGIN:VCALENDAR
VERSION:2.0
PRODID:icalendar-ruby
CALSCALE:GREGORIAN
METHOD:PUBLISH
BEGIN:VEVENT
DTSTAMP:20260420T184306Z
UID:58-395910@calgaryunitarians.ca
DTSTART:20260523T200000Z
DTEND:20260523T220000Z
CLASS:PUBLIC
CREATED:20260417T145224
DESCRIPTION:Ages 6+ (children 6-12 must be accompanied by an adult) Come ce
 lebrate spring and learn the ancient art of Ukrainian Pysanky making! We w
 ill explore simple step by step techniques using the Kistka and traditiona
 l dyes\, symbolism\, history and lore. Taught by visual artist Adrienne Ad
 ams. http://www.adrienneadamsartnadpoetry.com Workshop is by donation/pa
 y what you can. Donations will cover costs and then 50% will be donated ba
 ck to the church (so a bit of a fundraising event too). \n
LAST-MODIFIED:20260417T145224
LOCATION:Wickenden
SUMMARY:Pysanky Making Workshop
URL;VALUE=URI:https://www.calgaryunitarians.ca/events/pysanky-making-worksh
 op/2026-05-23
ATTACH;FILENAME=Volunteer Opportunity.png;FMTTYPE=image/png:https://dq5pwpg
 1q8ru0.cloudfront.net/2026/03/24/20/00/57/f217ed04-69f9-4799-9e84-760ca9ed
 8cae/Volunteer%20Opportunity.png
END:VEVENT
END:VCALENDAR
