BEGIN:VCALENDAR
VERSION:2.0
PRODID:icalendar-ruby
CALSCALE:GREGORIAN
METHOD:PUBLISH
BEGIN:VEVENT
DTSTAMP:20260420T184318Z
UID:63-389694@calgaryunitarians.ca
DTSTART:20260514T010000Z
DTEND:20260514T030000Z
CLASS:PUBLIC
CREATED:20260414T132502
DESCRIPTION:Build skills for facilitating small groups\, including listenin
 g well\, creating inclusive agreements\, supporting balanced participation
 \, and navigating group dynamics with care.\nStrong\, well-facilitated mee
 tings and small groups don’t happen by accident—they are the result of
  intentional practice\, shared tools\, and a commitment to creating spaces
  where every voice can be heard. In Unitarian Universalist community life\
 , both effective meeting leadership and thoughtful small group facilitatio
 n help us live into our values of collaboration\, inclusion\, interdepende
 nce\, and democratic participation.\nIn this workshop\, we will explore pr
 actical skills for strengthening how we gather\, make decisions\, and enga
 ge in meaningful conversation and offers a deeper toolkit for anyone who h
 elps lead\, host\, or participate in UU community spaces.\nParticipants wi
 ll have opportunities to learn through hands-on practice\, reflection\, an
 d shared experimentation with real facilitation and meeting scenarios. Whe
 ther your focus is committees\, teams\, or covenant groups\, these session
 s are designed to support more grounded\, inclusive\, and effective collec
 tive work.\nPlease contact Rev. Samaya if you’d like to attend.
LAST-MODIFIED:20260414T132502
LOCATION:Room 4 
SUMMARY: Facilitate with Care: Small Group Facilitation
URL;VALUE=URI:https://www.calgaryunitarians.ca/events/facilitate-with-care-
 small-group-facilitation--63/2026-05-13
ATTACH;FILENAME=Volunteer Opportunity (6).png;FMTTYPE=image/png:https://dq5
 pwpg1q8ru0.cloudfront.net/2026/04/14/19/23/43/f73a0942-82e2-44ae-a96b-1f18
 998d9b52/Volunteer%20Opportunity%20(6).png
END:VEVENT
END:VCALENDAR
